BEGIN:VCALENDAR
VERSION:2.0
PRODID:-//The Three Clubs - ECPv6.15.20//NONSGML v1.0//EN
CALSCALE:GREGORIAN
METHOD:PUBLISH
X-WR-CALNAME:The Three Clubs
X-ORIGINAL-URL:https://threeclubs.com
X-WR-CALDESC:Events for The Three Clubs
REFRESH-INTERVAL;VALUE=DURATION:PT1H
X-Robots-Tag:noindex
X-PUBLISHED-TTL:PT1H
BEGIN:VTIMEZONE
TZID:America/Los_Angeles
BEGIN:DAYLIGHT
TZOFFSETFROM:-0800
TZOFFSETTO:-0700
TZNAME:PDT
DTSTART:20250309T100000
END:DAYLIGHT
BEGIN:STANDARD
TZOFFSETFROM:-0700
TZOFFSETTO:-0800
TZNAME:PST
DTSTART:20251102T090000
END:STANDARD
BEGIN:DAYLIGHT
TZOFFSETFROM:-0800
TZOFFSETTO:-0700
TZNAME:PDT
DTSTART:20260308T100000
END:DAYLIGHT
BEGIN:STANDARD
TZOFFSETFROM:-0700
TZOFFSETTO:-0800
TZNAME:PST
DTSTART:20261101T090000
END:STANDARD
BEGIN:DAYLIGHT
TZOFFSETFROM:-0800
TZOFFSETTO:-0700
TZNAME:PDT
DTSTART:20270314T100000
END:DAYLIGHT
BEGIN:STANDARD
TZOFFSETFROM:-0700
TZOFFSETTO:-0800
TZNAME:PST
DTSTART:20271107T090000
END:STANDARD
END:VTIMEZONE
BEGIN:VEVENT
DTSTART;TZID=America/Los_Angeles:20260430T200000
DTEND;TZID=America/Los_Angeles:20260430T233000
DTSTAMP:20260422T044216
CREATED:20260421T224001Z
LAST-MODIFIED:20260421T224004Z
UID:9853-1777579200-1777591800@threeclubs.com
SUMMARY:EIH LAB: NEW ERA
DESCRIPTION:A new era of burlesque. 9 brand new acts\, bold energy\, and a reimagined showcase from Empowerment in Heels. \n\n\n\nEIH LAB: NEW ERA\n\n\n\nA new era begins. ✨ \n\n\n\nAfter over a year since our last student showcase at Three Clubs\, Empowerment in Heels returns with a reimagined performance experience. \n\n\n\nEIH Lab: New Era marks the evolution of our student showcase featuring a more intensive\, rigorous act development process designed to push emerging and experienced artists further in their creativity\, presence\, and performance. \n\n\n\nThe result?9 brand new burlesque acts that are bold\, refined\, and unlike anything we’ve presented before. \n\n\n\nThis is not just a showcase.This is a shift. \n\n\n\nExpect elevated storytelling\, undeniable stage presence\, and a glimpse into the next wave of burlesque artists stepping into their power. \n\n\n\nFeaturing:\n\n\n\n🌹 Miss Hunny Rose \n\n\n\n🐆 Valencia Leo Pard \n\n\n\n💋 Maria Fernanda \n\n\n\n📀 Rose Hypnol \n\n\n\n🦚 Miss Nine Divine \n\n\n\n⚡️ B. Elle Zebub \n\n\n\n💙 Morgana \n\n\n\n💥 Somebody’s Daughter \n\n\n\n🍑 Flash’N Mountains
URL:https://threeclubs.com/event/eih-lab-new-era/
CATEGORIES:carousel
ATTACH;FMTTYPE=image/png:https://threeclubs.com/wp-content/uploads/2026/04/Genie-Partnerships-Press-Online-Portfolio-in-Purple-Aura-Style.avif
END:VEVENT
END:VCALENDAR