BEGIN:VCALENDAR
VERSION:2.0
PRODID:-//The Three Clubs - ECPv6.15.20//NONSGML v1.0//EN
CALSCALE:GREGORIAN
METHOD:PUBLISH
X-WR-CALNAME:The Three Clubs
X-ORIGINAL-URL:https://threeclubs.com
X-WR-CALDESC:Events for The Three Clubs
REFRESH-INTERVAL;VALUE=DURATION:PT1H
X-Robots-Tag:noindex
X-PUBLISHED-TTL:PT1H
BEGIN:VTIMEZONE
TZID:America/Los_Angeles
BEGIN:DAYLIGHT
TZOFFSETFROM:-0800
TZOFFSETTO:-0700
TZNAME:PDT
DTSTART:20250309T100000
END:DAYLIGHT
BEGIN:STANDARD
TZOFFSETFROM:-0700
TZOFFSETTO:-0800
TZNAME:PST
DTSTART:20251102T090000
END:STANDARD
BEGIN:DAYLIGHT
TZOFFSETFROM:-0800
TZOFFSETTO:-0700
TZNAME:PDT
DTSTART:20260308T100000
END:DAYLIGHT
BEGIN:STANDARD
TZOFFSETFROM:-0700
TZOFFSETTO:-0800
TZNAME:PST
DTSTART:20261101T090000
END:STANDARD
BEGIN:DAYLIGHT
TZOFFSETFROM:-0800
TZOFFSETTO:-0700
TZNAME:PDT
DTSTART:20270314T100000
END:DAYLIGHT
BEGIN:STANDARD
TZOFFSETFROM:-0700
TZOFFSETTO:-0800
TZNAME:PST
DTSTART:20271107T090000
END:STANDARD
END:VTIMEZONE
BEGIN:VEVENT
DTSTART;TZID=America/Los_Angeles:20260426T190000
DTEND;TZID=America/Los_Angeles:20260426T203000
DTSTAMP:20260424T145829
CREATED:20260424T185121Z
LAST-MODIFIED:20260424T190654Z
UID:9951-1777230000-1777235400@threeclubs.com
SUMMARY:Hocus Jokus
DESCRIPTION:LA’s newest variety show! Hocus Jokus blends comedy\, magic\, and jaw-dropping acts into one wild\, unforgettable night. \n\n\n\nProduced and hosted by Connor Mac\, Hocus Jokus is a fast-paced comedy-magic variety show featuring top magicians\, comedians\, and specialty acts seen at The Magic Castle\, Netflix\, and The Comedy Store. From live doves to sword swallowing\, every show delivers an unpredictable lineup packed with unforgettable moments. Don’t miss your chance to catch some of LA’s most exciting performers! \n\n\n\nAges 21+
URL:https://threeclubs.com/event/hocus-jokus/
LOCATION:The Three Clubs Theater Main Stage\, 1123 N Vine\, Los Angeles\, CA\, 90038\, United States
CATEGORIES:carousel
ATTACH;FMTTYPE=image/jpeg:https://threeclubs.com/wp-content/uploads/2026/04/hocusj.avif
END:VEVENT
END:VCALENDAR