BEGIN:VCALENDAR
VERSION:2.0
PRODID:-//The Three Clubs - ECPv6.15.20//NONSGML v1.0//EN
CALSCALE:GREGORIAN
METHOD:PUBLISH
X-ORIGINAL-URL:https://threeclubs.com
X-WR-CALDESC:Events for The Three Clubs
REFRESH-INTERVAL;VALUE=DURATION:PT1H
X-Robots-Tag:noindex
X-PUBLISHED-TTL:PT1H
BEGIN:VTIMEZONE
TZID:America/Los_Angeles
BEGIN:DAYLIGHT
TZOFFSETFROM:-0800
TZOFFSETTO:-0700
TZNAME:PDT
DTSTART:20250309T100000
END:DAYLIGHT
BEGIN:STANDARD
TZOFFSETFROM:-0700
TZOFFSETTO:-0800
TZNAME:PST
DTSTART:20251102T090000
END:STANDARD
BEGIN:DAYLIGHT
TZOFFSETFROM:-0800
TZOFFSETTO:-0700
TZNAME:PDT
DTSTART:20260308T100000
END:DAYLIGHT
BEGIN:STANDARD
TZOFFSETFROM:-0700
TZOFFSETTO:-0800
TZNAME:PST
DTSTART:20261101T090000
END:STANDARD
BEGIN:DAYLIGHT
TZOFFSETFROM:-0800
TZOFFSETTO:-0700
TZNAME:PDT
DTSTART:20270314T100000
END:DAYLIGHT
BEGIN:STANDARD
TZOFFSETFROM:-0700
TZOFFSETTO:-0800
TZNAME:PST
DTSTART:20271107T090000
END:STANDARD
END:VTIMEZONE
BEGIN:VEVENT
DTSTART;TZID=America/Los_Angeles:20260424T190000
DTEND;TZID=America/Los_Angeles:20260424T235900
DTSTAMP:20260422T162825
CREATED:20260421T222948Z
LAST-MODIFIED:20260422T043034Z
UID:10002406-1777057200-1777075140@threeclubs.com
SUMMARY:HELLRIDE Ft Stephen Perkins\, Mike Watt\, Peter DiStefano & Jesse Hughes
DESCRIPTION:We have at least 8 acts on two stages performing at this event. Advance ticket purchases are $15 (not including fees) or $25 (cash only) at the door the evening of the event. If you’d like to inquire about reserving a table\, please text (323) 514 6900 and someone will respond asap. Table prices vary and do not include the ticket price(s) or the $100 minimum drink purchase per 2 seat / 4 seat tables.
URL:https://threeclubs.com/event/hellride-ft-stephen-perkins-miek-watt-petere-distefano-jesse-hughes/
CATEGORIES:carousel
ATTACH;FMTTYPE=image/png:https://threeclubs.com/wp-content/uploads/2026/04/C057A0E0-F7D9-4BC2-B428-39C2E0A2B25D.avif
END:VEVENT
END:VCALENDAR