BEGIN:VCALENDAR
VERSION:2.0
PRODID:-//The Three Clubs - ECPv6.15.20//NONSGML v1.0//EN
CALSCALE:GREGORIAN
METHOD:PUBLISH
X-WR-CALNAME:The Three Clubs
X-ORIGINAL-URL:https://threeclubs.com
X-WR-CALDESC:Events for The Three Clubs
REFRESH-INTERVAL;VALUE=DURATION:PT1H
X-Robots-Tag:noindex
X-PUBLISHED-TTL:PT1H
BEGIN:VTIMEZONE
TZID:America/Los_Angeles
BEGIN:DAYLIGHT
TZOFFSETFROM:-0800
TZOFFSETTO:-0700
TZNAME:PDT
DTSTART:20250309T100000
END:DAYLIGHT
BEGIN:STANDARD
TZOFFSETFROM:-0700
TZOFFSETTO:-0800
TZNAME:PST
DTSTART:20251102T090000
END:STANDARD
BEGIN:DAYLIGHT
TZOFFSETFROM:-0800
TZOFFSETTO:-0700
TZNAME:PDT
DTSTART:20260308T100000
END:DAYLIGHT
BEGIN:STANDARD
TZOFFSETFROM:-0700
TZOFFSETTO:-0800
TZNAME:PST
DTSTART:20261101T090000
END:STANDARD
BEGIN:DAYLIGHT
TZOFFSETFROM:-0800
TZOFFSETTO:-0700
TZNAME:PDT
DTSTART:20270314T100000
END:DAYLIGHT
BEGIN:STANDARD
TZOFFSETFROM:-0700
TZOFFSETTO:-0800
TZNAME:PST
DTSTART:20271107T090000
END:STANDARD
END:VTIMEZONE
BEGIN:VEVENT
DTSTART;TZID=America/Los_Angeles:20260410T190000
DTEND;TZID=America/Los_Angeles:20260410T190000
DTSTAMP:20260424T165802
CREATED:20260407T034821Z
LAST-MODIFIED:20260409T064354Z
UID:10002399-1775847600-1775847600@threeclubs.com
SUMMARY:The Play’s Got Talent
DESCRIPTION:The Play’s Got Talent is a live performance event where selected standout artists from the Los Angeles area step into the spotlight. \n\n\n\nA unique kinky talent showcase\, the night features original acts presented in front of a live audience and a panel of three curated judges\, all within a space rooted in consent\, care\, connection\, creativity and community. \n\n\n\nOur judges are Melanie Rose (from Netflix’s How to Build a Sex Room)\, Candace Cane (international renowned showgirl)\, Michael Hollice (founder of The Play). Hosted by Layla Shay of the Unmasked Project! \n\n\n\nOne standout performer will be selected and booked to perform at a future event for The Play.
URL:https://threeclubs.com/event/the-plays-got-talent/
LOCATION:CA
CATEGORIES:carousel
ATTACH;FMTTYPE=image/jpeg:https://threeclubs.com/wp-content/uploads/2026/03/The-plays-got-talent-.avif
END:VEVENT
BEGIN:VEVENT
DTSTART;TZID=America/Los_Angeles:20260409T200000
DTEND;TZID=America/Los_Angeles:20260409T220000
DTSTAMP:20260424T165802
CREATED:20260310T173208Z
LAST-MODIFIED:20260409T063757Z
UID:10002400-1775764800-1775772000@threeclubs.com
SUMMARY:Superfunny: Stand-Up With Visuals
DESCRIPTION:Superfunny\, a breakthrough stand-up show featuring live visuals the comedian is controlling! \n\n\n\nSuperfunny\, a breakthrough stand-up show featuring live visuals the comedian is controlling\, is excited to make its debut at Hollywood’s legendary The Three Clubs. It’s a one-of-a-kind comedy that combines killer stand-up with in-your-face imagery that brings a whole new sensory element to the experience. It’s not just funny\, It’s Superfunny.Superfunny. SEE what’s so funny. \n\n\n\n\n\n\n\n\n\nThis month we welcome the visual comedy of : \n\n\n\nMary Lynn Rajskub \n\n\n\nThe Sklar Brothers \n\n\n\nGreg Romero Wilson \n\n\n\nMyke Wright \n\n\n\nDanny Jolles \n\n\n\nHost and creator Ben Morrison \n\n\n\nTHURSDAY APRIL 9 / THE 3 CLUBS / 8:00 \n\n\n\n1123 Vine Street\, Los Angeles\, CA 90038 \n\n\n\nTickets are $20 avail at the box office or online. \n\n\n\nPLEASE NOTE: \n\n\n\n\nSEATING IS FIRST COME FIRST SERVE\n\n\n\n2 DRINK MINIMUM\n\n\n\n21+\n\n\n\nNO REFUNDS WITHIN 48HRS OF THE SHOW
URL:https://threeclubs.com/event/superfunny/
LOCATION:CA
CATEGORIES:carousel
ATTACH;FMTTYPE=image/png:https://threeclubs.com/wp-content/uploads/2026/03/SUPERFUNNY-3-CLUBS-APR-9-2026-FLYER-1.avif
END:VEVENT
BEGIN:VEVENT
DTSTART;TZID=America/Los_Angeles:20260328T190000
DTEND;TZID=America/Los_Angeles:20260329T020000
DTSTAMP:20260424T165802
CREATED:20260323T213749Z
LAST-MODIFIED:20260409T064020Z
UID:10002401-1774724400-1774749600@threeclubs.com
SUMMARY:Heaven VS Hell - A Celestial Social Dance Party
DESCRIPTION:
URL:https://threeclubs.com/event/heaven-vs-hell-a-celestial-social-dance-party/
LOCATION:CA
CATEGORIES:carousel
ATTACH;FMTTYPE=:
END:VEVENT
END:VCALENDAR