BEGIN:VCALENDAR
VERSION:2.0
PRODID:-//The Three Clubs - ECPv6.15.20//NONSGML v1.0//EN
CALSCALE:GREGORIAN
METHOD:PUBLISH
X-WR-CALNAME:The Three Clubs
X-ORIGINAL-URL:https://threeclubs.com
X-WR-CALDESC:Events for The Three Clubs
REFRESH-INTERVAL;VALUE=DURATION:PT1H
X-Robots-Tag:noindex
X-PUBLISHED-TTL:PT1H
BEGIN:VTIMEZONE
TZID:America/Los_Angeles
BEGIN:DAYLIGHT
TZOFFSETFROM:-0800
TZOFFSETTO:-0700
TZNAME:PDT
DTSTART:20250309T100000
END:DAYLIGHT
BEGIN:STANDARD
TZOFFSETFROM:-0700
TZOFFSETTO:-0800
TZNAME:PST
DTSTART:20251102T090000
END:STANDARD
BEGIN:DAYLIGHT
TZOFFSETFROM:-0800
TZOFFSETTO:-0700
TZNAME:PDT
DTSTART:20260308T100000
END:DAYLIGHT
BEGIN:STANDARD
TZOFFSETFROM:-0700
TZOFFSETTO:-0800
TZNAME:PST
DTSTART:20261101T090000
END:STANDARD
BEGIN:DAYLIGHT
TZOFFSETFROM:-0800
TZOFFSETTO:-0700
TZNAME:PDT
DTSTART:20270314T100000
END:DAYLIGHT
BEGIN:STANDARD
TZOFFSETFROM:-0700
TZOFFSETTO:-0800
TZNAME:PST
DTSTART:20271107T090000
END:STANDARD
END:VTIMEZONE
BEGIN:VEVENT
DTSTART;TZID=America/Los_Angeles:20260506T190000
DTEND;TZID=America/Los_Angeles:20260506T210000
DTSTAMP:20260424T183457
CREATED:20260305T190319Z
LAST-MODIFIED:20260409T063227Z
UID:10002392-1778094000-1778101200@threeclubs.com
SUMMARY:Netflix Is A Joke Presents: Ian Edwards
DESCRIPTION:
URL:https://threeclubs.com/event/netflix-is-a-joke-presents-ian-edwards/
LOCATION:The Three Clubs Theater Main Stage\, 1123 N Vine\, Los Angeles\, CA\, 90038\, United States
CATEGORIES:carousel,comedy,live performance
ATTACH;FMTTYPE=image/png:https://threeclubs.com/wp-content/uploads/2026/03/Netflix-Is-A-Joke-Presents-Ian-Edwards.avif
END:VEVENT
BEGIN:VEVENT
DTSTART;TZID=America/Los_Angeles:20260505T213000
DTEND;TZID=America/Los_Angeles:20260505T233000
DTSTAMP:20260424T183457
CREATED:20260305T185950Z
LAST-MODIFIED:20260409T063315Z
UID:10002393-1778016600-1778023800@threeclubs.com
SUMMARY:Netflix Is A Joke Presents: Jamie Wolf: Psycho
DESCRIPTION:
URL:https://threeclubs.com/event/netflix-is-a-joke-presents-jamie-wolf-psycho/
LOCATION:The Three Clubs Theater Main Stage\, 1123 N Vine\, Los Angeles\, CA\, 90038\, United States
CATEGORIES:carousel,comedy,live performance
ATTACH;FMTTYPE=image/png:https://threeclubs.com/wp-content/uploads/2026/03/Netflix-Is-A-Joke-Presents-Jamie-Wolf.avif
END:VEVENT
BEGIN:VEVENT
DTSTART;TZID=America/Los_Angeles:20260505T190000
DTEND;TZID=America/Los_Angeles:20260505T210000
DTSTAMP:20260424T183457
CREATED:20260305T185441Z
LAST-MODIFIED:20260409T063357Z
UID:10002394-1778007600-1778014800@threeclubs.com
SUMMARY:Netflix Is A Joke Presents: Michelle Collins
DESCRIPTION:
URL:https://threeclubs.com/event/netflix-is-a-joke-presents-michelle-collins/
LOCATION:The Three Clubs Theater Main Stage\, 1123 N Vine\, Los Angeles\, CA\, 90038\, United States
CATEGORIES:carousel,comedy,live performance
ATTACH;FMTTYPE=image/png:https://threeclubs.com/wp-content/uploads/2026/03/Netflix-Is-A-Joke-Presents-Michelle-Collins-1.avif
END:VEVENT
BEGIN:VEVENT
DTSTART;TZID=America/Los_Angeles:20260504T213000
DTEND;TZID=America/Los_Angeles:20260504T233000
DTSTAMP:20260424T183457
CREATED:20260416T231842Z
LAST-MODIFIED:20260416T232222Z
UID:10002403-1777930200-1777937400@threeclubs.com
SUMMARY:Netflix Is A Joke Presents: Adrienne Iapalucci & Friends
DESCRIPTION:
URL:https://threeclubs.com/event/netflix-is-a-joke-presents-adrienne-iapalucci-friends/
LOCATION:The Three Clubs Theater Main Stage\, 1123 N Vine\, Los Angeles\, CA\, 90038\, United States
CATEGORIES:carousel,comedy,live performance
ATTACH;FMTTYPE=image/png:https://threeclubs.com/wp-content/uploads/2026/04/Screenshot-2026-04-16-at-10.14.26-AM.avif
END:VEVENT
BEGIN:VEVENT
DTSTART;TZID=America/Los_Angeles:20260504T190000
DTEND;TZID=America/Los_Angeles:20260504T210000
DTSTAMP:20260424T183457
CREATED:20260305T184827Z
LAST-MODIFIED:20260417T174353Z
UID:10002395-1777921200-1777928400@threeclubs.com
SUMMARY:Netflix Is A Joke Presents: Ali Macofsky
DESCRIPTION:
URL:https://threeclubs.com/event/netflix-is-a-joke-presents-ali-macofsky/
LOCATION:The Three Clubs Theater Main Stage\, 1123 N Vine\, Los Angeles\, CA\, 90038\, United States
CATEGORIES:carousel,comedy,live performance
ATTACH;FMTTYPE=image/png:https://threeclubs.com/wp-content/uploads/2026/03/Netflix-Is-A-Joke-Presents-Ali-Macofsky.avif
END:VEVENT
BEGIN:VEVENT
DTSTART;TZID=America/Los_Angeles:20260501T190000
DTEND;TZID=America/Los_Angeles:20260501T233000
DTSTAMP:20260424T183457
CREATED:20260409T004301Z
LAST-MODIFIED:20260409T092654Z
UID:10002396-1777662000-1777678200@threeclubs.com
SUMMARY:Bowie's STATIONTOSTATION 50th Anniversary Full Album  show
DESCRIPTION:Celebrate Bowie’s STATIONTOSTATION 50th with a full album play plus all your fave hits live! \n\n\n\nBowie’s STATIONTOSTATION 50th Anniversary Full Album (plus hits) show\n\n\n\nGet ready for an epic in-person experience celebrating Bowie’s legendary STATIONTOSTATION album as it turns 50! We’ll be playing the full album plus all your favorite hits. Don’t miss this chance to dive into the sounds of a true icon with fellow fans. It’s going to be a night of great music\, vibes\, and Bowie magic!
URL:https://threeclubs.com/event/bowies-stationtostation-50th-anniversary-full-album-show-2/
LOCATION:CA
CATEGORIES:carousel
ATTACH;FMTTYPE=image/jpeg:https://threeclubs.com/wp-content/uploads/2026/04/bowie.avif
END:VEVENT
BEGIN:VEVENT
DTSTART;TZID=America/Los_Angeles:20260430T200000
DTEND;TZID=America/Los_Angeles:20260430T233000
DTSTAMP:20260424T183457
CREATED:20260421T224001Z
LAST-MODIFIED:20260421T224004Z
UID:10002407-1777579200-1777591800@threeclubs.com
SUMMARY:EIH LAB: NEW ERA
DESCRIPTION:A new era of burlesque. 9 brand new acts\, bold energy\, and a reimagined showcase from Empowerment in Heels. \n\n\n\nEIH LAB: NEW ERA\n\n\n\nA new era begins. ✨ \n\n\n\nAfter over a year since our last student showcase at Three Clubs\, Empowerment in Heels returns with a reimagined performance experience. \n\n\n\nEIH Lab: New Era marks the evolution of our student showcase featuring a more intensive\, rigorous act development process designed to push emerging and experienced artists further in their creativity\, presence\, and performance. \n\n\n\nThe result?9 brand new burlesque acts that are bold\, refined\, and unlike anything we’ve presented before. \n\n\n\nThis is not just a showcase.This is a shift. \n\n\n\nExpect elevated storytelling\, undeniable stage presence\, and a glimpse into the next wave of burlesque artists stepping into their power. \n\n\n\nFeaturing:\n\n\n\n🌹 Miss Hunny Rose \n\n\n\n🐆 Valencia Leo Pard \n\n\n\n💋 Maria Fernanda \n\n\n\n📀 Rose Hypnol \n\n\n\n🦚 Miss Nine Divine \n\n\n\n⚡️ B. Elle Zebub \n\n\n\n💙 Morgana \n\n\n\n💥 Somebody’s Daughter \n\n\n\n🍑 Flash’N Mountains
URL:https://threeclubs.com/event/eih-lab-new-era/
LOCATION:CA
CATEGORIES:carousel
ATTACH;FMTTYPE=image/png:https://threeclubs.com/wp-content/uploads/2026/04/Genie-Partnerships-Press-Online-Portfolio-in-Purple-Aura-Style.avif
END:VEVENT
BEGIN:VEVENT
DTSTART;TZID=America/Los_Angeles:20260429T200000
DTEND;TZID=America/Los_Angeles:20260429T230000
DTSTAMP:20260424T183457
CREATED:20260424T212757Z
LAST-MODIFIED:20260424T212801Z
UID:10002410-1777492800-1777503600@threeclubs.com
SUMMARY:Cloe Wilder: Live in Hollywood
DESCRIPTION:Join us for a night of live Americana as Cloe Wilder takes the stage at the world famous Three Clubs in the heart of Hollywood. \n\n\n\nJonathan Sadowski and The World Famous Three Clubs present \n\n\n\nCLOE WILDER LIVE IN HOLLYWOOD! \n\n\n\nGet ready for a night of live music\, craft cocktails\, and special guests that will leave your jaw on the floor….plus a supporting band to be announced soon! \n\n\n\nAfter releasing her first EP at 14 and moving from Tampa to Los Angeles\, Cloe Wilder hit the ground running and has continued to create songs that encompass her transition into adulthood and the chaos of growing up. Wilder has a deep appreciation and wonder for life\, evident in her evocative\, nostalgia-laden narratives. She often channels Old Hollywood glam; her floral and satin dresses skew toward core influence Lana Del Rey. Despite her grander aesthetic choices\, Cloe’s dreamy\, warm performance is immediate and intimate.Her Americana-inspired\, third EP “Life’s A Bitch” reflects on her past and takes the reins of her future— her honesty as a storyteller shines through in her lyricism. The driving “Heavyweight Champion” glitters darkly\, while “Tallahassee” is gentler. On the poppier “Cigarette\,” she chuckles at her misguidance. Trying that first cig was something of a metaphor. As a working performer on a different course from her college-bound friends\, she wanted a moment of rebellion\, too.Cloe’s ability to rasp or float over piano and guitar give feelings of both groundedness and flight. Whether she’s being introspective about her childhood or romanticizing the plainest conversation\, she doesn’t shy away from serious topics — “but I like to sound sweet while I sing about it.” When she titled the EP “Life’s A Bitch”\, she was being a little sarcastic\, but mostly serious. \n\n\n\nPLEASE NOTE: \n\n\n\nTWO DRINK MINIMUM \n\n\n\n21+ \n\n\n\nNO REFUNDS WITHIN 48HRS OF THE CONCERT
URL:https://threeclubs.com/event/cloe-wilder-live-in-hollywood/
LOCATION:The Three Clubs Theater Main Stage\, 1123 N Vine\, Los Angeles\, CA\, 90038\, United States
CATEGORIES:carousel
ATTACH;FMTTYPE=image/jpeg:https://threeclubs.com/wp-content/uploads/2026/04/CW_HEADLINETOUR_2026-FINAL-LOSANGELES-scaled.avif
END:VEVENT
BEGIN:VEVENT
DTSTART;TZID=America/Los_Angeles:20260428T193000
DTEND;TZID=America/Los_Angeles:20260428T220000
DTSTAMP:20260424T183457
CREATED:20260423T223543Z
LAST-MODIFIED:20260423T224605Z
UID:10002408-1777404600-1777413600@threeclubs.com
SUMMARY:The Deez Nutz Showcase
DESCRIPTION:The “NEXT!!!” of stand-up comedians in SoCal have gathered together to perform at the Three Clubs Lounge in Hollywood! Doors open at 7:30 and the show begins at 8:00. Please bring a copy of your reciept with you to the performance. \n\n\n\n***2 Drink Minimum!!*** \n\n\n\n***21 and over only***
URL:https://threeclubs.com/event/the-deez-nutz-showcase/
LOCATION:The Three Clubs Theater Main Stage\, 1123 N Vine\, Los Angeles\, CA\, 90038\, United States
ATTACH;FMTTYPE=image/jpeg:https://threeclubs.com/wp-content/uploads/2026/04/IMG_6926.avif
END:VEVENT
BEGIN:VEVENT
DTSTART;TZID=America/Los_Angeles:20260426T190000
DTEND;TZID=America/Los_Angeles:20260426T203000
DTSTAMP:20260424T183457
CREATED:20260424T185121Z
LAST-MODIFIED:20260424T190654Z
UID:10002409-1777230000-1777235400@threeclubs.com
SUMMARY:Hocus Jokus
DESCRIPTION:LA’s newest variety show! Hocus Jokus blends comedy\, magic\, and jaw-dropping acts into one wild\, unforgettable night. \n\n\n\nProduced and hosted by Connor Mac\, Hocus Jokus is a fast-paced comedy-magic variety show featuring top magicians\, comedians\, and specialty acts seen at The Magic Castle\, Netflix\, and The Comedy Store. From live doves to sword swallowing\, every show delivers an unpredictable lineup packed with unforgettable moments. Don’t miss your chance to catch some of LA’s most exciting performers! \n\n\n\nAges 21+
URL:https://threeclubs.com/event/hocus-jokus/
LOCATION:The Three Clubs Theater Main Stage\, 1123 N Vine\, Los Angeles\, CA\, 90038\, United States
CATEGORIES:carousel
ATTACH;FMTTYPE=image/jpeg:https://threeclubs.com/wp-content/uploads/2026/04/hocusj.avif
END:VEVENT
BEGIN:VEVENT
DTSTART;TZID=America/Los_Angeles:20260424T190000
DTEND;TZID=America/Los_Angeles:20260424T235900
DTSTAMP:20260424T183457
CREATED:20260421T222948Z
LAST-MODIFIED:20260422T043034Z
UID:10002406-1777057200-1777075140@threeclubs.com
SUMMARY:HELLRIDE Ft Stephen Perkins\, Mike Watt\, Peter DiStefano & Jesse Hughes
DESCRIPTION:We have at least 8 acts on two stages performing at this event. Advance ticket purchases are $15 (not including fees) or $25 (cash only) at the door the evening of the event. If you’d like to inquire about reserving a table\, please text (323) 514 6900 and someone will respond asap. Table prices vary and do not include the ticket price(s) or the $100 minimum drink purchase per 2 seat / 4 seat tables.
URL:https://threeclubs.com/event/hellride-ft-stephen-perkins-miek-watt-petere-distefano-jesse-hughes/
LOCATION:CA
CATEGORIES:carousel
ATTACH;FMTTYPE=image/png:https://threeclubs.com/wp-content/uploads/2026/04/C057A0E0-F7D9-4BC2-B428-39C2E0A2B25D.avif
END:VEVENT
BEGIN:VEVENT
DTSTART;TZID=America/Los_Angeles:20260420T200000
DTEND;TZID=America/Los_Angeles:20260420T230000
DTSTAMP:20260424T183457
CREATED:20260310T172852Z
LAST-MODIFIED:20260409T063531Z
UID:10002397-1776715200-1776726000@threeclubs.com
SUMMARY:Lectures on Tap
DESCRIPTION:
URL:https://threeclubs.com/event/lectures-on-tap-3/
LOCATION:CA
ATTACH;FMTTYPE=image/jpeg:https://threeclubs.com/wp-content/uploads/2026/03/lectures.jpg
END:VEVENT
BEGIN:VEVENT
DTSTART;TZID=America/Los_Angeles:20260411T180000
DTEND;TZID=America/Los_Angeles:20260411T220000
DTSTAMP:20260424T183457
CREATED:20260317T230911Z
LAST-MODIFIED:20260409T063615Z
UID:10002398-1775930400-1775944800@threeclubs.com
SUMMARY:Hollywood Steinholding Tournament
DESCRIPTION:Hollywood Steinholding Invitational – Get ready for a fun night at The Three Clubs! Join us on April 11\, 2026 at 7:00 PM (Pacific Time) for the Hollywood Steinholding Invitational. This is a taped event that will be broadcast on national TV! All you have to do is sit back\, relax\, and cheer on our competitors! \n\n\n\n\n\n\n\nWill the public get to compete in the Steinholding? No – this tournament is for the best of the best Steinholding competitors (professionals only). All you have to do is sit back and watch (and have some beers). You will be entertained all night long during the intense competition!Will I be on TV? There is a possibility that you will be on TV when this airs on ESPN in August. By buying this ticket – you are allowing us to use your image and likeness throughout the taping. A release form will also be signed at the door.Is there a bar? Yes – please buy two drinks or more to help our bartenders. That would be much appreciated! \n\n\n\n\n\nExact Timing: Saturday April 11\, 2026 – Doors Open at 6pm. Please arrive no later than 6:30pm to secure your seat. Doors close at 7!Show Start: 7pmShow End:10pm
URL:https://threeclubs.com/event/hollywood-steinholding-tournament/
LOCATION:CA
CATEGORIES:carousel
ATTACH;FMTTYPE=image/jpeg:https://threeclubs.com/wp-content/uploads/2026/03/Hollywood-Steinholding-Tournament-Flier-2.avif
END:VEVENT
BEGIN:VEVENT
DTSTART;TZID=America/Los_Angeles:20260410T190000
DTEND;TZID=America/Los_Angeles:20260410T190000
DTSTAMP:20260424T183457
CREATED:20260407T034821Z
LAST-MODIFIED:20260409T064354Z
UID:10002399-1775847600-1775847600@threeclubs.com
SUMMARY:The Play’s Got Talent
DESCRIPTION:The Play’s Got Talent is a live performance event where selected standout artists from the Los Angeles area step into the spotlight. \n\n\n\nA unique kinky talent showcase\, the night features original acts presented in front of a live audience and a panel of three curated judges\, all within a space rooted in consent\, care\, connection\, creativity and community. \n\n\n\nOur judges are Melanie Rose (from Netflix’s How to Build a Sex Room)\, Candace Cane (international renowned showgirl)\, Michael Hollice (founder of The Play). Hosted by Layla Shay of the Unmasked Project! \n\n\n\nOne standout performer will be selected and booked to perform at a future event for The Play.
URL:https://threeclubs.com/event/the-plays-got-talent/
LOCATION:CA
CATEGORIES:carousel
ATTACH;FMTTYPE=image/jpeg:https://threeclubs.com/wp-content/uploads/2026/03/The-plays-got-talent-.avif
END:VEVENT
BEGIN:VEVENT
DTSTART;TZID=America/Los_Angeles:20260409T200000
DTEND;TZID=America/Los_Angeles:20260409T220000
DTSTAMP:20260424T183457
CREATED:20260310T173208Z
LAST-MODIFIED:20260409T063757Z
UID:10002400-1775764800-1775772000@threeclubs.com
SUMMARY:Superfunny: Stand-Up With Visuals
DESCRIPTION:Superfunny\, a breakthrough stand-up show featuring live visuals the comedian is controlling! \n\n\n\nSuperfunny\, a breakthrough stand-up show featuring live visuals the comedian is controlling\, is excited to make its debut at Hollywood’s legendary The Three Clubs. It’s a one-of-a-kind comedy that combines killer stand-up with in-your-face imagery that brings a whole new sensory element to the experience. It’s not just funny\, It’s Superfunny.Superfunny. SEE what’s so funny. \n\n\n\n\n\n\n\n\n\nThis month we welcome the visual comedy of : \n\n\n\nMary Lynn Rajskub \n\n\n\nThe Sklar Brothers \n\n\n\nGreg Romero Wilson \n\n\n\nMyke Wright \n\n\n\nDanny Jolles \n\n\n\nHost and creator Ben Morrison \n\n\n\nTHURSDAY APRIL 9 / THE 3 CLUBS / 8:00 \n\n\n\n1123 Vine Street\, Los Angeles\, CA 90038 \n\n\n\nTickets are $20 avail at the box office or online. \n\n\n\nPLEASE NOTE: \n\n\n\n\nSEATING IS FIRST COME FIRST SERVE\n\n\n\n2 DRINK MINIMUM\n\n\n\n21+\n\n\n\nNO REFUNDS WITHIN 48HRS OF THE SHOW
URL:https://threeclubs.com/event/superfunny/
LOCATION:CA
CATEGORIES:carousel
ATTACH;FMTTYPE=image/png:https://threeclubs.com/wp-content/uploads/2026/03/SUPERFUNNY-3-CLUBS-APR-9-2026-FLYER-1.avif
END:VEVENT
BEGIN:VEVENT
DTSTART;TZID=America/Los_Angeles:20260328T190000
DTEND;TZID=America/Los_Angeles:20260329T020000
DTSTAMP:20260424T183457
CREATED:20260323T213749Z
LAST-MODIFIED:20260409T064020Z
UID:10002401-1774724400-1774749600@threeclubs.com
SUMMARY:Heaven VS Hell - A Celestial Social Dance Party
DESCRIPTION:
URL:https://threeclubs.com/event/heaven-vs-hell-a-celestial-social-dance-party/
LOCATION:CA
CATEGORIES:carousel
ATTACH;FMTTYPE=:
END:VEVENT
END:VCALENDAR